BEGIN:VCALENDAR
VERSION:2.0
PRODID:AVS
CALSCALE:GREGORIAN
REFRESH-INTERVAL;VALUE=DURATION:PT1H
BEGIN:VEVENT
DTSTART:20260711T000000
DTEND:20260713T000000
LOCATION:Bergheim Landro Höhlensteintal
DTSTAMP:20260426T015537
SUMMARY:Familienwochenende 
DESCRIPTION:Link: https://alpenverein.it/veranstaltung/id-3b6ad9aa-d6d4-4562-ad44-1e0a3bdb75df/
UID:3b6ad9aa-d6d4-4562-ad44-1e0a3bdb75df
BEGIN:VALARM
ACTION:DISPLAY
DESCRIPTION:REMINDER
TRIGGER:-PT48H
END:VALARM
END:VEVENT
END:VCALENDAR