BEGIN:VCALENDAR
VERSION:2.0
PRODID:AVS
CALSCALE:GREGORIAN
REFRESH-INTERVAL;VALUE=DURATION:PT1H
BEGIN:VEVENT
DTSTART:20220116T000000
DTEND:20220116T000000
LOCATION:Cadini Gruppe
DTSTAMP:20260420T165001
SUMMARY:Winterwanderung Misurina See zum Rifugio Cittá di Carpi
DESCRIPTION:Link: https://alpenverein.it/veranstaltung/id-37df1b18-99ee-4893-aac9-238d91d7f3e4/
UID:37df1b18-99ee-4893-aac9-238d91d7f3e4
BEGIN:VALARM
ACTION:DISPLAY
DESCRIPTION:REMINDER
TRIGGER:-PT48H
END:VALARM
END:VEVENT
END:VCALENDAR