BEGIN:VCALENDAR
VERSION:2.0
PRODID:AVS
CALSCALE:GREGORIAN
REFRESH-INTERVAL;VALUE=DURATION:PT1H
BEGIN:VEVENT
DTSTART:20220721T073000
DTEND:20220721T073000
LOCATION:Gröden
DTSTAMP:20260422T214431
SUMMARY:Wanderung am Sassongher in Corvara (Bus)
DESCRIPTION:Link: https://alpenverein.it/veranstaltung/id-35790436-d802-42a4-ace8-11a123a16a9e/
UID:35790436-d802-42a4-ace8-11a123a16a9e
BEGIN:VALARM
ACTION:DISPLAY
DESCRIPTION:REMINDER
TRIGGER:-PT48H
END:VALARM
END:VEVENT
END:VCALENDAR