BEGIN:VCALENDAR
VERSION:2.0
PRODID:AVS
CALSCALE:GREGORIAN
REFRESH-INTERVAL;VALUE=DURATION:PT1H
BEGIN:VEVENT
DTSTART:20260823T000000
DTEND:20260823T000000
LOCATION:Ridnauner Berge
DTSTAMP:20260422T031827
SUMMARY:Bergtour Zunderspitze
DESCRIPTION:Link: https://alpenverein.it/veranstaltung/id-2e04c055-2f01-46d0-9857-7e384e6eca29/
UID:2e04c055-2f01-46d0-9857-7e384e6eca29
BEGIN:VALARM
ACTION:DISPLAY
DESCRIPTION:REMINDER
TRIGGER:-PT48H
END:VALARM
END:VEVENT
END:VCALENDAR