BEGIN:VCALENDAR
VERSION:2.0
PRODID:AVS
CALSCALE:GREGORIAN
REFRESH-INTERVAL;VALUE=DURATION:PT1H
BEGIN:VEVENT
DTSTART:20241203T180000
DTEND:20241203T193000
LOCATION:Kletterhalle Martell
DTSTAMP:20260421T101654
SUMMARY:Klettern für Grundschulkinder
DESCRIPTION:Link: https://alpenverein.it/veranstaltung/id-29d18d5a-db48-4a51-9105-82f682d39939/
UID:29d18d5a-db48-4a51-9105-82f682d39939-27d3b7439f0815624b0d6650666a4c01
BEGIN:VALARM
ACTION:DISPLAY
DESCRIPTION:REMINDER
TRIGGER:-PT48H
END:VALARM
END:VEVENT
BEGIN:VEVENT
DTSTART:20241210T180000
DTEND:20241210T193000
LOCATION:Kletterhalle Martell
DTSTAMP:20260421T101654
SUMMARY:Klettern für Grundschulkinder
DESCRIPTION:Link: https://alpenverein.it/veranstaltung/id-29d18d5a-db48-4a51-9105-82f682d39939/
UID:29d18d5a-db48-4a51-9105-82f682d39939-b7190b65bef7082486ad52c9d7dfbef8
BEGIN:VALARM
ACTION:DISPLAY
DESCRIPTION:REMINDER
TRIGGER:-PT48H
END:VALARM
END:VEVENT
BEGIN:VEVENT
DTSTART:20241217T180000
DTEND:20241217T193000
LOCATION:Kletterhalle Martell
DTSTAMP:20260421T101654
SUMMARY:Klettern für Grundschulkinder
DESCRIPTION:Link: https://alpenverein.it/veranstaltung/id-29d18d5a-db48-4a51-9105-82f682d39939/
UID:29d18d5a-db48-4a51-9105-82f682d39939-26e6d679ee930243690eddb28b449ec2
BEGIN:VALARM
ACTION:DISPLAY
DESCRIPTION:REMINDER
TRIGGER:-PT48H
END:VALARM
END:VEVENT
BEGIN:VEVENT
DTSTART:20250107T180000
DTEND:20250107T193000
LOCATION:Kletterhalle Martell
DTSTAMP:20260421T101654
SUMMARY:Klettern für Grundschulkinder
DESCRIPTION:Link: https://alpenverein.it/veranstaltung/id-29d18d5a-db48-4a51-9105-82f682d39939/
UID:29d18d5a-db48-4a51-9105-82f682d39939-90716c3e95bf1e17bbe2b901f229eb5b
BEGIN:VALARM
ACTION:DISPLAY
DESCRIPTION:REMINDER
TRIGGER:-PT48H
END:VALARM
END:VEVENT
BEGIN:VEVENT
DTSTART:20250114T180000
DTEND:20250114T193000
LOCATION:Kletterhalle Martell
DTSTAMP:20260421T101654
SUMMARY:Klettern für Grundschulkinder
DESCRIPTION:Link: https://alpenverein.it/veranstaltung/id-29d18d5a-db48-4a51-9105-82f682d39939/
UID:29d18d5a-db48-4a51-9105-82f682d39939-d2478b264bbb4fc9a9c712a711519fa1
BEGIN:VALARM
ACTION:DISPLAY
DESCRIPTION:REMINDER
TRIGGER:-PT48H
END:VALARM
END:VEVENT
BEGIN:VEVENT
DTSTART:20250121T180000
DTEND:20250121T193000
LOCATION:Kletterhalle Martell
DTSTAMP:20260421T101654
SUMMARY:Klettern für Grundschulkinder
DESCRIPTION:Link: https://alpenverein.it/veranstaltung/id-29d18d5a-db48-4a51-9105-82f682d39939/
UID:29d18d5a-db48-4a51-9105-82f682d39939-2a9540643a3cb108c9539a7775f405c2
BEGIN:VALARM
ACTION:DISPLAY
DESCRIPTION:REMINDER
TRIGGER:-PT48H
END:VALARM
END:VEVENT
BEGIN:VEVENT
DTSTART:20250128T180000
DTEND:20250128T193000
LOCATION:Kletterhalle Martell
DTSTAMP:20260421T101654
SUMMARY:Klettern für Grundschulkinder
DESCRIPTION:Link: https://alpenverein.it/veranstaltung/id-29d18d5a-db48-4a51-9105-82f682d39939/
UID:29d18d5a-db48-4a51-9105-82f682d39939-c8920f5b4cad6b8cfbb85b7eb48ac34f
BEGIN:VALARM
ACTION:DISPLAY
DESCRIPTION:REMINDER
TRIGGER:-PT48H
END:VALARM
END:VEVENT
BEGIN:VEVENT
DTSTART:20250204T180000
DTEND:20250204T193000
LOCATION:Kletterhalle Martell
DTSTAMP:20260421T101654
SUMMARY:Klettern für Grundschulkinder
DESCRIPTION:Link: https://alpenverein.it/veranstaltung/id-29d18d5a-db48-4a51-9105-82f682d39939/
UID:29d18d5a-db48-4a51-9105-82f682d39939-7e15d4787ab54eb49fa9ace1e00ef1e5
BEGIN:VALARM
ACTION:DISPLAY
DESCRIPTION:REMINDER
TRIGGER:-PT48H
END:VALARM
END:VEVENT
BEGIN:VEVENT
DTSTART:20250211T180000
DTEND:20250211T193000
LOCATION:Kletterhalle Martell
DTSTAMP:20260421T101654
SUMMARY:Klettern für Grundschulkinder
DESCRIPTION:Link: https://alpenverein.it/veranstaltung/id-29d18d5a-db48-4a51-9105-82f682d39939/
UID:29d18d5a-db48-4a51-9105-82f682d39939-b91ca288fd068dd5e9b89c4319518230
BEGIN:VALARM
ACTION:DISPLAY
DESCRIPTION:REMINDER
TRIGGER:-PT48H
END:VALARM
END:VEVENT
BEGIN:VEVENT
DTSTART:20250218T180000
DTEND:20250218T193000
LOCATION:Kletterhalle Martell
DTSTAMP:20260421T101654
SUMMARY:Klettern für Grundschulkinder
DESCRIPTION:Link: https://alpenverein.it/veranstaltung/id-29d18d5a-db48-4a51-9105-82f682d39939/
UID:29d18d5a-db48-4a51-9105-82f682d39939-1e9fc01c3cd5ebe9a0bb4a33c43e0f9d
BEGIN:VALARM
ACTION:DISPLAY
DESCRIPTION:REMINDER
TRIGGER:-PT48H
END:VALARM
END:VEVENT
END:VCALENDAR