BEGIN:VCALENDAR
VERSION:2.0
PRODID:AVS
CALSCALE:GREGORIAN
REFRESH-INTERVAL;VALUE=DURATION:PT1H
BEGIN:VEVENT
DTSTART:20260822T000000
DTEND:20260822T000000
LOCATION:Schnalser Berge
DTSTAMP:20260422T031634
SUMMARY:Bergtour Kortscher Schafberg
DESCRIPTION:Link: https://alpenverein.it/veranstaltung/id-202f5b48-deb6-452b-9afa-ac5fa526fcbe/
UID:202f5b48-deb6-452b-9afa-ac5fa526fcbe
BEGIN:VALARM
ACTION:DISPLAY
DESCRIPTION:REMINDER
TRIGGER:-PT48H
END:VALARM
END:VEVENT
END:VCALENDAR