BEGIN:VCALENDAR
VERSION:2.0
PRODID:AVS
CALSCALE:GREGORIAN
REFRESH-INTERVAL;VALUE=DURATION:PT1H
BEGIN:VEVENT
DTSTART:20220828T000000
DTEND:20220828T000000
LOCATION:Prad am Stilfserjoch
DTSTAMP:20260421T114533
SUMMARY:Spiel und Spaß beim Grillen
DESCRIPTION:Link: https://alpenverein.it/veranstaltung/id-1d239c85-407b-42ca-a017-a49ae952d5c9/
UID:1d239c85-407b-42ca-a017-a49ae952d5c9
BEGIN:VALARM
ACTION:DISPLAY
DESCRIPTION:REMINDER
TRIGGER:-PT48H
END:VALARM
END:VEVENT
END:VCALENDAR