BEGIN:VCALENDAR
VERSION:2.0
PRODID:AVS
CALSCALE:GREGORIAN
REFRESH-INTERVAL;VALUE=DURATION:PT1H
BEGIN:VEVENT
DTSTART:20230402T063000
DTEND:20230402T170000
LOCATION:je nach Schneeverhältnissen
DTSTAMP:20260425T212856
SUMMARY:Skitour
DESCRIPTION:Link: https://alpenverein.it/veranstaltung/id-19ef6b5c-3028-49be-adf9-e2c833670d1e/
UID:19ef6b5c-3028-49be-adf9-e2c833670d1e
BEGIN:VALARM
ACTION:DISPLAY
DESCRIPTION:REMINDER
TRIGGER:-PT48H
END:VALARM
END:VEVENT
END:VCALENDAR