BEGIN:VCALENDAR
VERSION:2.0
PRODID:AVS
CALSCALE:GREGORIAN
REFRESH-INTERVAL;VALUE=DURATION:PT1H
BEGIN:VEVENT
DTSTART:20241017T000000
DTEND:20241017T000000
LOCATION:
DTSTAMP:20260419T171841
SUMMARY:Geh mit: Herbstwanderung mit Törggelen
DESCRIPTION:Link: https://alpenverein.it/veranstaltung/id-19915c32-1f79-4f59-860a-32141856464f/
UID:19915c32-1f79-4f59-860a-32141856464f
BEGIN:VALARM
ACTION:DISPLAY
DESCRIPTION:REMINDER
TRIGGER:-PT48H
END:VALARM
END:VEVENT
END:VCALENDAR