BEGIN:VCALENDAR
VERSION:2.0
PRODID:AVS
CALSCALE:GREGORIAN
REFRESH-INTERVAL;VALUE=DURATION:PT1H
BEGIN:VEVENT
DTSTART:20220811T000000
DTEND:20220811T000000
LOCATION:Klausen Umgebung
DTSTAMP:20260425T014910
SUMMARY:Sonenuntergangswanderung
DESCRIPTION:Link: https://alpenverein.it/veranstaltung/id-157de884-fad4-4fda-84fd-de8df622af4e/
UID:157de884-fad4-4fda-84fd-de8df622af4e
BEGIN:VALARM
ACTION:DISPLAY
DESCRIPTION:REMINDER
TRIGGER:-PT48H
END:VALARM
END:VEVENT
END:VCALENDAR