BEGIN:VCALENDAR
VERSION:2.0
PRODID:AVS
CALSCALE:GREGORIAN
REFRESH-INTERVAL;VALUE=DURATION:PT1H
BEGIN:VEVENT
DTSTART:20260815T000000
DTEND:20260815T000000
LOCATION:Stubaier Alpen
DTSTAMP:20260422T033431
SUMMARY:Bergtour Krapfenkarspitze
DESCRIPTION:Link: https://alpenverein.it/veranstaltung/id-13ac4a13-b576-4a82-82da-62c3b90a5973/
UID:13ac4a13-b576-4a82-82da-62c3b90a5973
BEGIN:VALARM
ACTION:DISPLAY
DESCRIPTION:REMINDER
TRIGGER:-PT48H
END:VALARM
END:VEVENT
END:VCALENDAR