BEGIN:VCALENDAR
VERSION:2.0
PRODID:AVS
CALSCALE:GREGORIAN
REFRESH-INTERVAL;VALUE=DURATION:PT1H
BEGIN:VEVENT
DTSTART:20260516T110000
DTEND:20260516T130000
LOCATION:
DTSTAMP:20260422T031633
SUMMARY:100 Jahre Heimatlied
DESCRIPTION:Link: https://alpenverein.it/veranstaltung/id-12f0b1e7-5490-45ca-9bae-b4e13b04370d/
UID:12f0b1e7-5490-45ca-9bae-b4e13b04370d
BEGIN:VALARM
ACTION:DISPLAY
DESCRIPTION:REMINDER
TRIGGER:-PT48H
END:VALARM
END:VEVENT
END:VCALENDAR