BEGIN:VCALENDAR
VERSION:2.0
PRODID:AVS
CALSCALE:GREGORIAN
REFRESH-INTERVAL;VALUE=DURATION:PT1H
BEGIN:VEVENT
DTSTART:20260726T000000
DTEND:20260726T000000
LOCATION:Dolomiten
DTSTAMP:20260422T033605
SUMMARY:Bergwanderung Würzjoch
DESCRIPTION:Link: https://alpenverein.it/veranstaltung/id-0dde0934-6062-477c-b677-484b38fa0498/
UID:0dde0934-6062-477c-b677-484b38fa0498
BEGIN:VALARM
ACTION:DISPLAY
DESCRIPTION:REMINDER
TRIGGER:-PT48H
END:VALARM
END:VEVENT
END:VCALENDAR