BEGIN:VCALENDAR
VERSION:2.0
PRODID:AVS
CALSCALE:GREGORIAN
REFRESH-INTERVAL;VALUE=DURATION:PT1H
BEGIN:VEVENT
DTSTART:20230903T000000
DTEND:20230903T000000
LOCATION:Sporminore
DTSTAMP:20260419T145620
SUMMARY:Höhlenwanderung
DESCRIPTION:Link: https://alpenverein.it/veranstaltung/id-033c112a-b60f-4839-b69d-a46d96a76ca8/
UID:033c112a-b60f-4839-b69d-a46d96a76ca8
BEGIN:VALARM
ACTION:DISPLAY
DESCRIPTION:REMINDER
TRIGGER:-PT48H
END:VALARM
END:VEVENT
END:VCALENDAR