BEGIN:VCALENDAR
VERSION:2.0
PRODID:AVS
CALSCALE:GREGORIAN
REFRESH-INTERVAL;VALUE=DURATION:PT1H
BEGIN:VEVENT
DTSTART:20230611T140000
DTEND:20230611T190000
LOCATION:
DTSTAMP:20260421T135113
SUMMARY:Klettern für alle im Klettergarten Juval
DESCRIPTION:Link: https://alpenverein.it/veranstaltung/id-0335ec10-fb01-4775-a378-1d87d8bb821e/
UID:0335ec10-fb01-4775-a378-1d87d8bb821e
BEGIN:VALARM
ACTION:DISPLAY
DESCRIPTION:REMINDER
TRIGGER:-PT48H
END:VALARM
END:VEVENT
END:VCALENDAR