BEGIN:VCALENDAR
VERSION:2.0
PRODID:AVS
CALSCALE:GREGORIAN
REFRESH-INTERVAL;VALUE=DURATION:PT1H
BEGIN:VEVENT
DTSTART:20260712T000000
DTEND:20260712T000000
LOCATION:
DTSTAMP:20260422T032011
SUMMARY:Bergtour Monte Mulaz im Naturpark Paneveggio
DESCRIPTION:Link: https://alpenverein.it/veranstaltung/id-0292c180-2f3c-46ac-8d3e-fcbc58187b69/
UID:0292c180-2f3c-46ac-8d3e-fcbc58187b69
BEGIN:VALARM
ACTION:DISPLAY
DESCRIPTION:REMINDER
TRIGGER:-PT48H
END:VALARM
END:VEVENT
END:VCALENDAR