BEGIN:VCALENDAR
VERSION:2.0
PRODID:AVS
CALSCALE:GREGORIAN
REFRESH-INTERVAL;VALUE=DURATION:PT1H
BEGIN:VEVENT
DTSTART:20220219T000000
DTEND:20220220T000000
LOCATION:Kletterhalle Vertikale\, Brixen
DTSTAMP:20260423T061824
SUMMARY:Schiedsrichter mit FASI
DESCRIPTION:Link: https://alpenverein.it/kurs/nr-b304/
UID:d9d2268f-467a-43d2-a743-09cdd3d2692d
BEGIN:VALARM
ACTION:DISPLAY
DESCRIPTION:REMINDER
TRIGGER:-PT48H
END:VALARM
END:VEVENT
END:VCALENDAR