BEGIN:VCALENDAR
VERSION:2.0
PRODID:AVS
CALSCALE:GREGORIAN
REFRESH-INTERVAL;VALUE=DURATION:PT1H
BEGIN:VEVENT
DTSTART:20220719T000000
DTEND:20220723T000000
LOCATION:Stubaier Alpen\, Müllerhütte
DTSTAMP:20260419T223340
SUMMARY:Aufstiegskurs Tourenleiter
DESCRIPTION:Link: https://alpenverein.it/kurs/nr-b211/
UID:d7180180-7a82-4755-aa63-874ae779d383
BEGIN:VALARM
ACTION:DISPLAY
DESCRIPTION:REMINDER
TRIGGER:-PT48H
END:VALARM
END:VEVENT
END:VCALENDAR