BEGIN:VCALENDAR
VERSION:2.0
PRODID:AVS
CALSCALE:GREGORIAN
REFRESH-INTERVAL;VALUE=DURATION:PT1H
BEGIN:VEVENT
DTSTART:20220618T000000
DTEND:20220619T000000
LOCATION:Großglockner\, Ostalpen
DTSTAMP:20260421T165610
SUMMARY:Weiterbildung Auffrischung Spaltenbergung und Seiltechniken am Gletscher
DESCRIPTION:Link: https://alpenverein.it/kurs/nr-b210/
UID:5b349c0b-c94a-4e78-ab20-46b235de5c84
BEGIN:VALARM
ACTION:DISPLAY
DESCRIPTION:REMINDER
TRIGGER:-PT48H
END:VALARM
END:VEVENT
END:VCALENDAR