BEGIN:VCALENDAR
VERSION:2.0
PRODID:AVS
CALSCALE:GREGORIAN
REFRESH-INTERVAL;VALUE=DURATION:PT1H
BEGIN:VEVENT
DTSTART:20220423T000000
DTEND:20220423T000000
LOCATION:Montiggl\, Eppan
DTSTAMP:20260421T102414
SUMMARY:Mountainbike Fahrtechnik – Basis
DESCRIPTION:Link: https://alpenverein.it/kurs/nr-a800/
UID:9fdc71fe-c644-4a23-ad3d-b647eb39f914
BEGIN:VALARM
ACTION:DISPLAY
DESCRIPTION:REMINDER
TRIGGER:-PT48H
END:VALARM
END:VEVENT
END:VCALENDAR