BEGIN:VCALENDAR
VERSION:2.0
PRODID:AVS
CALSCALE:GREGORIAN
REFRESH-INTERVAL;VALUE=DURATION:PT1H
BEGIN:VEVENT
DTSTART:20261004T000000
DTEND:20261004T000000
LOCATION:AVS-Landesgeschäftsstelle
DTSTAMP:20260425T182631
SUMMARY:Anmeldeschluss - Auffrischungskurs BLS mit AED (Defibrillatorkurs) 
DESCRIPTION:Link: https://alpenverein.it/kurs/nr-58w49-26/
UID:0a3ea9bb-0e43-4e3c-8ac1-a02640334152-registration
BEGIN:VALARM
ACTION:DISPLAY
DESCRIPTION:REMINDER
TRIGGER:-PT48H
END:VALARM
END:VEVENT
BEGIN:VEVENT
DTSTART:20260924T000000
DTEND:20260924T000000
LOCATION:AVS-Landesgeschäftsstelle
DTSTAMP:20260425T182631
SUMMARY:Erinnerung Anmeldeschluss - Auffrischungskurs BLS mit AED (Defibrillatorkurs) 
DESCRIPTION:Link: https://alpenverein.it/kurs/nr-58w49-26/
UID:0a3ea9bb-0e43-4e3c-8ac1-a02640334152-registration
BEGIN:VALARM
ACTION:DISPLAY
DESCRIPTION:REMINDER
TRIGGER:-PT1H
END:VALARM
END:VEVENT
BEGIN:VEVENT
DTSTART:20261022T140000
DTEND:20261022T200000
LOCATION:AVS-Landesgeschäftsstelle
DTSTAMP:20260425T182631
SUMMARY:Auffrischungskurs BLS mit AED (Defibrillatorkurs) 
DESCRIPTION:Link: https://alpenverein.it/kurs/nr-58w49-26/
UID:0a3ea9bb-0e43-4e3c-8ac1-a02640334152-72337e8d7e3c5ca73a1a4accdb6d886b
BEGIN:VALARM
ACTION:DISPLAY
DESCRIPTION:REMINDER
TRIGGER:-PT48H
END:VALARM
END:VEVENT
BEGIN:VEVENT
DTSTART:20261022T140000
DTEND:20261022T200000
LOCATION:AVS-Landesgeschäftsstelle
DTSTAMP:20260425T182631
SUMMARY:Auffrischungskurs BLS mit AED (Defibrillatorkurs) 
DESCRIPTION:Link: https://alpenverein.it/kurs/nr-58w49-26/
UID:0a3ea9bb-0e43-4e3c-8ac1-a02640334152-72337e8d7e3c5ca73a1a4accdb6d886b
BEGIN:VALARM
ACTION:DISPLAY
DESCRIPTION:REMINDER
TRIGGER:-PT48H
END:VALARM
END:VEVENT
BEGIN:VEVENT
DTSTART:20261022T140000
DTEND:20261022T200000
LOCATION:AVS-Landesgeschäftsstelle
DTSTAMP:20260425T182631
SUMMARY:Auffrischungskurs BLS mit AED (Defibrillatorkurs) 
DESCRIPTION:Link: https://alpenverein.it/kurs/nr-58w49-26/
UID:0a3ea9bb-0e43-4e3c-8ac1-a02640334152-72337e8d7e3c5ca73a1a4accdb6d886b
BEGIN:VALARM
ACTION:DISPLAY
DESCRIPTION:REMINDER
TRIGGER:-PT48H
END:VALARM
END:VEVENT
END:VCALENDAR