BEGIN:VCALENDAR
VERSION:2.0
PRODID:AVS
CALSCALE:GREGORIAN
REFRESH-INTERVAL;VALUE=DURATION:PT1H
BEGIN:VEVENT
DTSTART:20260503T000000
DTEND:20260503T000000
LOCATION:Zans
DTSTAMP:20260421T101350
SUMMARY:Anmeldeschluss - Weiterbildung: Leitungs- und Führungshandeln - Sommer
DESCRIPTION:Link: https://alpenverein.it/kurs/nr-58w44-26/
UID:1857b02e-e10d-4651-a0fe-c84674769874-registration
BEGIN:VALARM
ACTION:DISPLAY
DESCRIPTION:REMINDER
TRIGGER:-PT48H
END:VALARM
END:VEVENT
BEGIN:VEVENT
DTSTART:20260423T000000
DTEND:20260423T000000
LOCATION:Zans
DTSTAMP:20260421T101350
SUMMARY:Erinnerung Anmeldeschluss - Weiterbildung: Leitungs- und Führungshandeln - Sommer
DESCRIPTION:Link: https://alpenverein.it/kurs/nr-58w44-26/
UID:1857b02e-e10d-4651-a0fe-c84674769874-registration
BEGIN:VALARM
ACTION:DISPLAY
DESCRIPTION:REMINDER
TRIGGER:-PT1H
END:VALARM
END:VEVENT
BEGIN:VEVENT
DTSTART:20260606T000000
DTEND:20260607T000000
LOCATION:Zans
DTSTAMP:20260421T101350
SUMMARY:Weiterbildung: Leitungs- und Führungshandeln - Sommer
DESCRIPTION:Link: https://alpenverein.it/kurs/nr-58w44-26/
UID:1857b02e-e10d-4651-a0fe-c84674769874
BEGIN:VALARM
ACTION:DISPLAY
DESCRIPTION:REMINDER
TRIGGER:-PT48H
END:VALARM
END:VEVENT
END:VCALENDAR