BEGIN:VCALENDAR
VERSION:2.0
PRODID:AVS
CALSCALE:GREGORIAN
REFRESH-INTERVAL;VALUE=DURATION:PT1H
BEGIN:VEVENT
DTSTART:20260510T000000
DTEND:20260510T000000
LOCATION:Feldthurns
DTSTAMP:20260425T182631
SUMMARY:Anmeldeschluss - Weiterbildung Wanderführer:innen AVS: Fotografie leicht gemacht
DESCRIPTION:Link: https://alpenverein.it/kurs/nr-58w38-26/
UID:d167a905-bf97-4ffe-bf74-423de3c44715-registration
BEGIN:VALARM
ACTION:DISPLAY
DESCRIPTION:REMINDER
TRIGGER:-PT48H
END:VALARM
END:VEVENT
BEGIN:VEVENT
DTSTART:20260430T000000
DTEND:20260430T000000
LOCATION:Feldthurns
DTSTAMP:20260425T182631
SUMMARY:Erinnerung Anmeldeschluss - Weiterbildung Wanderführer:innen AVS: Fotografie leicht gemacht
DESCRIPTION:Link: https://alpenverein.it/kurs/nr-58w38-26/
UID:d167a905-bf97-4ffe-bf74-423de3c44715-registration
BEGIN:VALARM
ACTION:DISPLAY
DESCRIPTION:REMINDER
TRIGGER:-PT1H
END:VALARM
END:VEVENT
BEGIN:VEVENT
DTSTART:20260516T090000
DTEND:20260516T180000
LOCATION:Feldthurns
DTSTAMP:20260425T182631
SUMMARY:Weiterbildung Wanderführer:innen AVS: Fotografie leicht gemacht
DESCRIPTION:Link: https://alpenverein.it/kurs/nr-58w38-26/
UID:d167a905-bf97-4ffe-bf74-423de3c44715
BEGIN:VALARM
ACTION:DISPLAY
DESCRIPTION:REMINDER
TRIGGER:-PT48H
END:VALARM
END:VEVENT
END:VCALENDAR