BEGIN:VCALENDAR
VERSION:2.0
PRODID:AVS
CALSCALE:GREGORIAN
REFRESH-INTERVAL;VALUE=DURATION:PT1H
BEGIN:VEVENT
DTSTART:20250527T160000
DTEND:20250527T180000
LOCATION:AVS-Landesgeschäftsstelle\, Bozen
DTSTAMP:20260419T145525
SUMMARY:Wege online: Einführung in die neue Wege-Verwaltungssoftware
DESCRIPTION:Link: https://alpenverein.it/kurs/nr-58s25-25/
UID:a75f4c45-8539-4ba7-af1b-924955c9ce74
BEGIN:VALARM
ACTION:DISPLAY
DESCRIPTION:REMINDER
TRIGGER:-PT48H
END:VALARM
END:VEVENT
END:VCALENDAR