BEGIN:VCALENDAR
VERSION:2.0
PRODID:AVS
CALSCALE:GREGORIAN
REFRESH-INTERVAL;VALUE=DURATION:PT1H
BEGIN:VEVENT
DTSTART:20251114T000000
DTEND:20251115T170000
LOCATION:Onlinevortrag zum Thema Wetterkunde\, Praxistag rund um Kurtatsch
DTSTAMP:20260422T200153
SUMMARY:Basismodul: Orientierung, Tourenplanung und Wetterkunde
DESCRIPTION:Link: https://alpenverein.it/kurs/nr-58b14-25/
UID:2ecfd28c-ef82-4279-9249-4416c20a516b
BEGIN:VALARM
ACTION:DISPLAY
DESCRIPTION:REMINDER
TRIGGER:-PT48H
END:VALARM
END:VEVENT
END:VCALENDAR