BEGIN:VCALENDAR
VERSION:2.0
PRODID:AVS
CALSCALE:GREGORIAN
REFRESH-INTERVAL;VALUE=DURATION:PT1H
BEGIN:VEVENT
DTSTART:20240708T000000
DTEND:20240711T000000
LOCATION:Westalpen
DTSTAMP:20260423T195844
SUMMARY:ALPINIST Alpintage Hochtour - Westalpen Level 2
DESCRIPTION:Link: https://alpenverein.it/kurs/nr-56p08-24/
UID:0daed614-3b2a-4231-b495-e1a70e005c29
BEGIN:VALARM
ACTION:DISPLAY
DESCRIPTION:REMINDER
TRIGGER:-PT48H
END:VALARM
END:VEVENT
END:VCALENDAR