BEGIN:VCALENDAR
VERSION:2.0
PRODID:AVS
CALSCALE:GREGORIAN
REFRESH-INTERVAL;VALUE=DURATION:PT1H
BEGIN:VEVENT
DTSTART:20250514T190000
DTEND:20250514T220000
LOCATION:Online
DTSTAMP:20260421T101347
SUMMARY:alpenvereinaktiv - Web & App: Online-Schulung
DESCRIPTION:Link: https://alpenverein.it/kurs/nr-56g02-25/
UID:245632ef-bdfc-4e22-bb62-22fc100980ed
BEGIN:VALARM
ACTION:DISPLAY
DESCRIPTION:REMINDER
TRIGGER:-PT48H
END:VALARM
END:VEVENT
END:VCALENDAR