BEGIN:VCALENDAR
VERSION:2.0
PRODID:AVS
CALSCALE:GREGORIAN
REFRESH-INTERVAL;VALUE=DURATION:PT1H
BEGIN:VEVENT
DTSTART:20250712T000000
DTEND:20250713T170000
LOCATION:Sulden
DTSTAMP:20260421T100325
SUMMARY:Gletscherkurs Sulden - Anfänger:innenkurs
DESCRIPTION:Link: https://alpenverein.it/kurs/nr-56e06-25/
UID:9e421a68-9618-4864-9a92-a3363c6e1ddb
BEGIN:VALARM
ACTION:DISPLAY
DESCRIPTION:REMINDER
TRIGGER:-PT48H
END:VALARM
END:VEVENT
END:VCALENDAR