BEGIN:VCALENDAR
VERSION:2.0
PRODID:AVS
CALSCALE:GREGORIAN
REFRESH-INTERVAL;VALUE=DURATION:PT1H
BEGIN:VEVENT
DTSTART:20240202T180000
DTEND:20240202T193000
LOCATION:Nordic Arena Toblach
DTSTAMP:20260422T011801
SUMMARY:Klettern Mittelschüler
DESCRIPTION:Link: https://alpenverein.it/kurs/id-cdeb74ba-1fec-4dbf-86cc-c1c295aa45b0/
UID:cdeb74ba-1fec-4dbf-86cc-c1c295aa45b0-14982fcd92c74f7d25fc3b71e9c848d6
BEGIN:VALARM
ACTION:DISPLAY
DESCRIPTION:REMINDER
TRIGGER:-PT48H
END:VALARM
END:VEVENT
BEGIN:VEVENT
DTSTART:20240209T180000
DTEND:20240209T193000
LOCATION:Nordic Arena Toblach
DTSTAMP:20260422T011801
SUMMARY:Klettern Mittelschüler
DESCRIPTION:Link: https://alpenverein.it/kurs/id-cdeb74ba-1fec-4dbf-86cc-c1c295aa45b0/
UID:cdeb74ba-1fec-4dbf-86cc-c1c295aa45b0-83a75529167f52c1addb1bc67faad602
BEGIN:VALARM
ACTION:DISPLAY
DESCRIPTION:REMINDER
TRIGGER:-PT48H
END:VALARM
END:VEVENT
BEGIN:VEVENT
DTSTART:20240223T180000
DTEND:20240223T193000
LOCATION:Nordic Arena Toblach
DTSTAMP:20260422T011801
SUMMARY:Klettern Mittelschüler
DESCRIPTION:Link: https://alpenverein.it/kurs/id-cdeb74ba-1fec-4dbf-86cc-c1c295aa45b0/
UID:cdeb74ba-1fec-4dbf-86cc-c1c295aa45b0-70d65d045a09cd1ba18d9707a0664dcc
BEGIN:VALARM
ACTION:DISPLAY
DESCRIPTION:REMINDER
TRIGGER:-PT48H
END:VALARM
END:VEVENT
BEGIN:VEVENT
DTSTART:20240301T180000
DTEND:20240301T193000
LOCATION:Nordic Arena Toblach
DTSTAMP:20260422T011801
SUMMARY:Klettern Mittelschüler
DESCRIPTION:Link: https://alpenverein.it/kurs/id-cdeb74ba-1fec-4dbf-86cc-c1c295aa45b0/
UID:cdeb74ba-1fec-4dbf-86cc-c1c295aa45b0-ff311874379130111dc915a038a28403
BEGIN:VALARM
ACTION:DISPLAY
DESCRIPTION:REMINDER
TRIGGER:-PT48H
END:VALARM
END:VEVENT
BEGIN:VEVENT
DTSTART:20240308T180000
DTEND:20240308T193000
LOCATION:Nordic Arena Toblach
DTSTAMP:20260422T011801
SUMMARY:Klettern Mittelschüler
DESCRIPTION:Link: https://alpenverein.it/kurs/id-cdeb74ba-1fec-4dbf-86cc-c1c295aa45b0/
UID:cdeb74ba-1fec-4dbf-86cc-c1c295aa45b0-89f55f5575a26709e140fb104860c3d7
BEGIN:VALARM
ACTION:DISPLAY
DESCRIPTION:REMINDER
TRIGGER:-PT48H
END:VALARM
END:VEVENT
BEGIN:VEVENT
DTSTART:20240322T180000
DTEND:20240322T193000
LOCATION:Nordic Arena Toblach
DTSTAMP:20260422T011801
SUMMARY:Klettern Mittelschüler
DESCRIPTION:Link: https://alpenverein.it/kurs/id-cdeb74ba-1fec-4dbf-86cc-c1c295aa45b0/
UID:cdeb74ba-1fec-4dbf-86cc-c1c295aa45b0-5585632c06c9a85ceaa4f5fc4e129fd5
BEGIN:VALARM
ACTION:DISPLAY
DESCRIPTION:REMINDER
TRIGGER:-PT48H
END:VALARM
END:VEVENT
BEGIN:VEVENT
DTSTART:20240405T180000
DTEND:20240405T193000
LOCATION:Nordic Arena Toblach
DTSTAMP:20260422T011801
SUMMARY:Klettern Mittelschüler
DESCRIPTION:Link: https://alpenverein.it/kurs/id-cdeb74ba-1fec-4dbf-86cc-c1c295aa45b0/
UID:cdeb74ba-1fec-4dbf-86cc-c1c295aa45b0-310269bfafd76f3422897f624c7a3a0b
BEGIN:VALARM
ACTION:DISPLAY
DESCRIPTION:REMINDER
TRIGGER:-PT48H
END:VALARM
END:VEVENT
BEGIN:VEVENT
DTSTART:20240412T180000
DTEND:20240412T193000
LOCATION:Nordic Arena Toblach
DTSTAMP:20260422T011801
SUMMARY:Klettern Mittelschüler
DESCRIPTION:Link: https://alpenverein.it/kurs/id-cdeb74ba-1fec-4dbf-86cc-c1c295aa45b0/
UID:cdeb74ba-1fec-4dbf-86cc-c1c295aa45b0-12aa5e343fb3e26ffcff048448689c51
BEGIN:VALARM
ACTION:DISPLAY
DESCRIPTION:REMINDER
TRIGGER:-PT48H
END:VALARM
END:VEVENT
END:VCALENDAR