BEGIN:VCALENDAR
VERSION:2.0
PRODID:AVS
CALSCALE:GREGORIAN
REFRESH-INTERVAL;VALUE=DURATION:PT1H
BEGIN:VEVENT
DTSTART:20251016T200000
DTEND:20251016T220000
LOCATION:Kletterhalle Tramin
DTSTAMP:20260421T114526
SUMMARY:Kletterkurs Erwachsene - Anfänger & leicht Fortgeschrittene
DESCRIPTION:Link: https://alpenverein.it/kurs/id-959581a4-cd43-4f94-9ac4-0c27bc499c73/
UID:959581a4-cd43-4f94-9ac4-0c27bc499c73-ec66a5792adf9b60533162c5c3a14159
BEGIN:VALARM
ACTION:DISPLAY
DESCRIPTION:REMINDER
TRIGGER:-PT48H
END:VALARM
END:VEVENT
BEGIN:VEVENT
DTSTART:20251023T200000
DTEND:20251023T220000
LOCATION:Kletterhalle Tramin
DTSTAMP:20260421T114526
SUMMARY:Kletterkurs Erwachsene - Anfänger & leicht Fortgeschrittene
DESCRIPTION:Link: https://alpenverein.it/kurs/id-959581a4-cd43-4f94-9ac4-0c27bc499c73/
UID:959581a4-cd43-4f94-9ac4-0c27bc499c73-599777884cf7c43712236a20bfb0facf
BEGIN:VALARM
ACTION:DISPLAY
DESCRIPTION:REMINDER
TRIGGER:-PT48H
END:VALARM
END:VEVENT
BEGIN:VEVENT
DTSTART:20251106T200000
DTEND:20251106T220000
LOCATION:Kletterhalle Tramin
DTSTAMP:20260421T114526
SUMMARY:Kletterkurs Erwachsene - Anfänger & leicht Fortgeschrittene
DESCRIPTION:Link: https://alpenverein.it/kurs/id-959581a4-cd43-4f94-9ac4-0c27bc499c73/
UID:959581a4-cd43-4f94-9ac4-0c27bc499c73-525163ab993405a9910e795a5f84ff08
BEGIN:VALARM
ACTION:DISPLAY
DESCRIPTION:REMINDER
TRIGGER:-PT48H
END:VALARM
END:VEVENT
BEGIN:VEVENT
DTSTART:20251113T200000
DTEND:20251113T220000
LOCATION:Kletterhalle Tramin
DTSTAMP:20260421T114526
SUMMARY:Kletterkurs Erwachsene - Anfänger & leicht Fortgeschrittene
DESCRIPTION:Link: https://alpenverein.it/kurs/id-959581a4-cd43-4f94-9ac4-0c27bc499c73/
UID:959581a4-cd43-4f94-9ac4-0c27bc499c73-a2b9e4afc9725247820bd20a69f5953e
BEGIN:VALARM
ACTION:DISPLAY
DESCRIPTION:REMINDER
TRIGGER:-PT48H
END:VALARM
END:VEVENT
BEGIN:VEVENT
DTSTART:20251120T200000
DTEND:20251120T220000
LOCATION:Kletterhalle Tramin
DTSTAMP:20260421T114526
SUMMARY:Kletterkurs Erwachsene - Anfänger & leicht Fortgeschrittene
DESCRIPTION:Link: https://alpenverein.it/kurs/id-959581a4-cd43-4f94-9ac4-0c27bc499c73/
UID:959581a4-cd43-4f94-9ac4-0c27bc499c73-228a98b5441472e6377c5f347ce4dc1e
BEGIN:VALARM
ACTION:DISPLAY
DESCRIPTION:REMINDER
TRIGGER:-PT48H
END:VALARM
END:VEVENT
BEGIN:VEVENT
DTSTART:20251127T200000
DTEND:20251127T220000
LOCATION:Kletterhalle Tramin
DTSTAMP:20260421T114526
SUMMARY:Kletterkurs Erwachsene - Anfänger & leicht Fortgeschrittene
DESCRIPTION:Link: https://alpenverein.it/kurs/id-959581a4-cd43-4f94-9ac4-0c27bc499c73/
UID:959581a4-cd43-4f94-9ac4-0c27bc499c73-0c78771e85f3f6170a5c829a2117961d
BEGIN:VALARM
ACTION:DISPLAY
DESCRIPTION:REMINDER
TRIGGER:-PT48H
END:VALARM
END:VEVENT
BEGIN:VEVENT
DTSTART:20251204T200000
DTEND:20251204T220000
LOCATION:Kletterhalle Tramin
DTSTAMP:20260421T114526
SUMMARY:Kletterkurs Erwachsene - Anfänger & leicht Fortgeschrittene
DESCRIPTION:Link: https://alpenverein.it/kurs/id-959581a4-cd43-4f94-9ac4-0c27bc499c73/
UID:959581a4-cd43-4f94-9ac4-0c27bc499c73-4d787e49a416469f169960e7c35a05a6
BEGIN:VALARM
ACTION:DISPLAY
DESCRIPTION:REMINDER
TRIGGER:-PT48H
END:VALARM
END:VEVENT
BEGIN:VEVENT
DTSTART:20251211T200000
DTEND:20251211T220000
LOCATION:Kletterhalle Tramin
DTSTAMP:20260421T114526
SUMMARY:Kletterkurs Erwachsene - Anfänger & leicht Fortgeschrittene
DESCRIPTION:Link: https://alpenverein.it/kurs/id-959581a4-cd43-4f94-9ac4-0c27bc499c73/
UID:959581a4-cd43-4f94-9ac4-0c27bc499c73-c4e164624f5a9ec4cc6af845a649a3b1
BEGIN:VALARM
ACTION:DISPLAY
DESCRIPTION:REMINDER
TRIGGER:-PT48H
END:VALARM
END:VEVENT
BEGIN:VEVENT
DTSTART:20251218T200000
DTEND:20251218T220000
LOCATION:Kletterhalle Tramin
DTSTAMP:20260421T114526
SUMMARY:Kletterkurs Erwachsene - Anfänger & leicht Fortgeschrittene
DESCRIPTION:Link: https://alpenverein.it/kurs/id-959581a4-cd43-4f94-9ac4-0c27bc499c73/
UID:959581a4-cd43-4f94-9ac4-0c27bc499c73-df5fb69aae5c94aa1eea362f2e200bd7
BEGIN:VALARM
ACTION:DISPLAY
DESCRIPTION:REMINDER
TRIGGER:-PT48H
END:VALARM
END:VEVENT
BEGIN:VEVENT
DTSTART:20260108T200000
DTEND:20260108T220000
LOCATION:Kletterhalle Tramin
DTSTAMP:20260421T114526
SUMMARY:Kletterkurs Erwachsene - Anfänger & leicht Fortgeschrittene
DESCRIPTION:Link: https://alpenverein.it/kurs/id-959581a4-cd43-4f94-9ac4-0c27bc499c73/
UID:959581a4-cd43-4f94-9ac4-0c27bc499c73-01928d4c285c22c25b625964375a44ff
BEGIN:VALARM
ACTION:DISPLAY
DESCRIPTION:REMINDER
TRIGGER:-PT48H
END:VALARM
END:VEVENT
END:VCALENDAR