BEGIN:VCALENDAR
VERSION:2.0
PRODID:AVS
CALSCALE:GREGORIAN
REFRESH-INTERVAL;VALUE=DURATION:PT1H
BEGIN:VEVENT
DTSTART:20240916T143000
DTEND:20240916T154500
LOCATION:Rockarena Meran
DTSTAMP:20260421T072612
SUMMARY:Basiskurs MO 7-9 / 14.30 - 15.45
DESCRIPTION:Link: https://alpenverein.it/kurs/id-7d2ae2f3-5c8b-4fd8-8783-d24d6ecb8d6c/
UID:7d2ae2f3-5c8b-4fd8-8783-d24d6ecb8d6c-e1e17942f4d6d12fa6241d2c581bcbd5
BEGIN:VALARM
ACTION:DISPLAY
DESCRIPTION:REMINDER
TRIGGER:-PT48H
END:VALARM
END:VEVENT
BEGIN:VEVENT
DTSTART:20240923T143000
DTEND:20240923T154500
LOCATION:Rockarena Meran
DTSTAMP:20260421T072612
SUMMARY:Basiskurs MO 7-9 / 14.30 - 15.45
DESCRIPTION:Link: https://alpenverein.it/kurs/id-7d2ae2f3-5c8b-4fd8-8783-d24d6ecb8d6c/
UID:7d2ae2f3-5c8b-4fd8-8783-d24d6ecb8d6c-5ed60bf979211526fb792150a4b9c746
BEGIN:VALARM
ACTION:DISPLAY
DESCRIPTION:REMINDER
TRIGGER:-PT48H
END:VALARM
END:VEVENT
BEGIN:VEVENT
DTSTART:20240930T143000
DTEND:20240930T154500
LOCATION:Rockarena Meran
DTSTAMP:20260421T072612
SUMMARY:Basiskurs MO 7-9 / 14.30 - 15.45
DESCRIPTION:Link: https://alpenverein.it/kurs/id-7d2ae2f3-5c8b-4fd8-8783-d24d6ecb8d6c/
UID:7d2ae2f3-5c8b-4fd8-8783-d24d6ecb8d6c-0c1bffcc0a01c93ab856c3eff6a9804b
BEGIN:VALARM
ACTION:DISPLAY
DESCRIPTION:REMINDER
TRIGGER:-PT48H
END:VALARM
END:VEVENT
BEGIN:VEVENT
DTSTART:20241007T143000
DTEND:20241007T154500
LOCATION:Rockarena Meran
DTSTAMP:20260421T072612
SUMMARY:Basiskurs MO 7-9 / 14.30 - 15.45
DESCRIPTION:Link: https://alpenverein.it/kurs/id-7d2ae2f3-5c8b-4fd8-8783-d24d6ecb8d6c/
UID:7d2ae2f3-5c8b-4fd8-8783-d24d6ecb8d6c-27088f11dd4ae44f61124b19b1cea92d
BEGIN:VALARM
ACTION:DISPLAY
DESCRIPTION:REMINDER
TRIGGER:-PT48H
END:VALARM
END:VEVENT
BEGIN:VEVENT
DTSTART:20241014T143000
DTEND:20241014T154500
LOCATION:Rockarena Meran
DTSTAMP:20260421T072612
SUMMARY:Basiskurs MO 7-9 / 14.30 - 15.45
DESCRIPTION:Link: https://alpenverein.it/kurs/id-7d2ae2f3-5c8b-4fd8-8783-d24d6ecb8d6c/
UID:7d2ae2f3-5c8b-4fd8-8783-d24d6ecb8d6c-f0055aab74830fced96181998231fa3b
BEGIN:VALARM
ACTION:DISPLAY
DESCRIPTION:REMINDER
TRIGGER:-PT48H
END:VALARM
END:VEVENT
BEGIN:VEVENT
DTSTART:20241021T143000
DTEND:20241021T154500
LOCATION:Rockarena Meran
DTSTAMP:20260421T072612
SUMMARY:Basiskurs MO 7-9 / 14.30 - 15.45
DESCRIPTION:Link: https://alpenverein.it/kurs/id-7d2ae2f3-5c8b-4fd8-8783-d24d6ecb8d6c/
UID:7d2ae2f3-5c8b-4fd8-8783-d24d6ecb8d6c-4d257551a274b24ffeb1d3d5db137473
BEGIN:VALARM
ACTION:DISPLAY
DESCRIPTION:REMINDER
TRIGGER:-PT48H
END:VALARM
END:VEVENT
BEGIN:VEVENT
DTSTART:20241104T143000
DTEND:20241104T154500
LOCATION:Rockarena Meran
DTSTAMP:20260421T072612
SUMMARY:Basiskurs MO 7-9 / 14.30 - 15.45
DESCRIPTION:Link: https://alpenverein.it/kurs/id-7d2ae2f3-5c8b-4fd8-8783-d24d6ecb8d6c/
UID:7d2ae2f3-5c8b-4fd8-8783-d24d6ecb8d6c-6d8fe233a2d9e64965d3d208d24ac0c3
BEGIN:VALARM
ACTION:DISPLAY
DESCRIPTION:REMINDER
TRIGGER:-PT48H
END:VALARM
END:VEVENT
BEGIN:VEVENT
DTSTART:20241111T143000
DTEND:20241111T154500
LOCATION:Rockarena Meran
DTSTAMP:20260421T072612
SUMMARY:Basiskurs MO 7-9 / 14.30 - 15.45
DESCRIPTION:Link: https://alpenverein.it/kurs/id-7d2ae2f3-5c8b-4fd8-8783-d24d6ecb8d6c/
UID:7d2ae2f3-5c8b-4fd8-8783-d24d6ecb8d6c-3491ae65fa83ac1bd42cf7e0d945ce2a
BEGIN:VALARM
ACTION:DISPLAY
DESCRIPTION:REMINDER
TRIGGER:-PT48H
END:VALARM
END:VEVENT
BEGIN:VEVENT
DTSTART:20241118T143000
DTEND:20241118T154500
LOCATION:Rockarena Meran
DTSTAMP:20260421T072612
SUMMARY:Basiskurs MO 7-9 / 14.30 - 15.45
DESCRIPTION:Link: https://alpenverein.it/kurs/id-7d2ae2f3-5c8b-4fd8-8783-d24d6ecb8d6c/
UID:7d2ae2f3-5c8b-4fd8-8783-d24d6ecb8d6c-2fdd5ead921509c773af06d14ddeb85b
BEGIN:VALARM
ACTION:DISPLAY
DESCRIPTION:REMINDER
TRIGGER:-PT48H
END:VALARM
END:VEVENT
BEGIN:VEVENT
DTSTART:20241125T143000
DTEND:20241125T154500
LOCATION:Rockarena Meran
DTSTAMP:20260421T072612
SUMMARY:Basiskurs MO 7-9 / 14.30 - 15.45
DESCRIPTION:Link: https://alpenverein.it/kurs/id-7d2ae2f3-5c8b-4fd8-8783-d24d6ecb8d6c/
UID:7d2ae2f3-5c8b-4fd8-8783-d24d6ecb8d6c-0120c596405281bbc815e60e53716024
BEGIN:VALARM
ACTION:DISPLAY
DESCRIPTION:REMINDER
TRIGGER:-PT48H
END:VALARM
END:VEVENT
BEGIN:VEVENT
DTSTART:20241202T143000
DTEND:20241202T154500
LOCATION:Rockarena Meran
DTSTAMP:20260421T072612
SUMMARY:Basiskurs MO 7-9 / 14.30 - 15.45
DESCRIPTION:Link: https://alpenverein.it/kurs/id-7d2ae2f3-5c8b-4fd8-8783-d24d6ecb8d6c/
UID:7d2ae2f3-5c8b-4fd8-8783-d24d6ecb8d6c-b280a5b36474db5cbd1d3e675a20d6d7
BEGIN:VALARM
ACTION:DISPLAY
DESCRIPTION:REMINDER
TRIGGER:-PT48H
END:VALARM
END:VEVENT
BEGIN:VEVENT
DTSTART:20241209T143000
DTEND:20241209T154500
LOCATION:Rockarena Meran
DTSTAMP:20260421T072612
SUMMARY:Basiskurs MO 7-9 / 14.30 - 15.45
DESCRIPTION:Link: https://alpenverein.it/kurs/id-7d2ae2f3-5c8b-4fd8-8783-d24d6ecb8d6c/
UID:7d2ae2f3-5c8b-4fd8-8783-d24d6ecb8d6c-f8fc374363a0c4be4c6a2b2e0d96f66f
BEGIN:VALARM
ACTION:DISPLAY
DESCRIPTION:REMINDER
TRIGGER:-PT48H
END:VALARM
END:VEVENT
BEGIN:VEVENT
DTSTART:20241216T143000
DTEND:20241216T154500
LOCATION:Rockarena Meran
DTSTAMP:20260421T072612
SUMMARY:Basiskurs MO 7-9 / 14.30 - 15.45
DESCRIPTION:Link: https://alpenverein.it/kurs/id-7d2ae2f3-5c8b-4fd8-8783-d24d6ecb8d6c/
UID:7d2ae2f3-5c8b-4fd8-8783-d24d6ecb8d6c-1c4459be791e672bf9d70f299a2ebfd8
BEGIN:VALARM
ACTION:DISPLAY
DESCRIPTION:REMINDER
TRIGGER:-PT48H
END:VALARM
END:VEVENT
BEGIN:VEVENT
DTSTART:20250113T143000
DTEND:20250113T154500
LOCATION:Rockarena Meran
DTSTAMP:20260421T072612
SUMMARY:Basiskurs MO 7-9 / 14.30 - 15.45
DESCRIPTION:Link: https://alpenverein.it/kurs/id-7d2ae2f3-5c8b-4fd8-8783-d24d6ecb8d6c/
UID:7d2ae2f3-5c8b-4fd8-8783-d24d6ecb8d6c-a28c0c5a53633a599a22d5fc6860fa73
BEGIN:VALARM
ACTION:DISPLAY
DESCRIPTION:REMINDER
TRIGGER:-PT48H
END:VALARM
END:VEVENT
BEGIN:VEVENT
DTSTART:20250120T143000
DTEND:20250120T154500
LOCATION:Rockarena Meran
DTSTAMP:20260421T072612
SUMMARY:Basiskurs MO 7-9 / 14.30 - 15.45
DESCRIPTION:Link: https://alpenverein.it/kurs/id-7d2ae2f3-5c8b-4fd8-8783-d24d6ecb8d6c/
UID:7d2ae2f3-5c8b-4fd8-8783-d24d6ecb8d6c-5a20d25f0427ecb5deef25685f68c9b7
BEGIN:VALARM
ACTION:DISPLAY
DESCRIPTION:REMINDER
TRIGGER:-PT48H
END:VALARM
END:VEVENT
BEGIN:VEVENT
DTSTART:20250127T143000
DTEND:20250127T154500
LOCATION:Rockarena Meran
DTSTAMP:20260421T072612
SUMMARY:Basiskurs MO 7-9 / 14.30 - 15.45
DESCRIPTION:Link: https://alpenverein.it/kurs/id-7d2ae2f3-5c8b-4fd8-8783-d24d6ecb8d6c/
UID:7d2ae2f3-5c8b-4fd8-8783-d24d6ecb8d6c-ccde4124b3b7a83cb0bc0b0e4fb889f3
BEGIN:VALARM
ACTION:DISPLAY
DESCRIPTION:REMINDER
TRIGGER:-PT48H
END:VALARM
END:VEVENT
BEGIN:VEVENT
DTSTART:20250203T143000
DTEND:20250203T154500
LOCATION:Rockarena Meran
DTSTAMP:20260421T072612
SUMMARY:Basiskurs MO 7-9 / 14.30 - 15.45
DESCRIPTION:Link: https://alpenverein.it/kurs/id-7d2ae2f3-5c8b-4fd8-8783-d24d6ecb8d6c/
UID:7d2ae2f3-5c8b-4fd8-8783-d24d6ecb8d6c-bc775a7f954407e0892f2fb10bb061be
BEGIN:VALARM
ACTION:DISPLAY
DESCRIPTION:REMINDER
TRIGGER:-PT48H
END:VALARM
END:VEVENT
BEGIN:VEVENT
DTSTART:20250210T143000
DTEND:20250210T154500
LOCATION:Rockarena Meran
DTSTAMP:20260421T072612
SUMMARY:Basiskurs MO 7-9 / 14.30 - 15.45
DESCRIPTION:Link: https://alpenverein.it/kurs/id-7d2ae2f3-5c8b-4fd8-8783-d24d6ecb8d6c/
UID:7d2ae2f3-5c8b-4fd8-8783-d24d6ecb8d6c-5a464ef028b23f7b5057dd01e8f71adf
BEGIN:VALARM
ACTION:DISPLAY
DESCRIPTION:REMINDER
TRIGGER:-PT48H
END:VALARM
END:VEVENT
BEGIN:VEVENT
DTSTART:20250217T143000
DTEND:20250217T154500
LOCATION:Rockarena Meran
DTSTAMP:20260421T072612
SUMMARY:Basiskurs MO 7-9 / 14.30 - 15.45
DESCRIPTION:Link: https://alpenverein.it/kurs/id-7d2ae2f3-5c8b-4fd8-8783-d24d6ecb8d6c/
UID:7d2ae2f3-5c8b-4fd8-8783-d24d6ecb8d6c-bbc2223caad7b6e5eeca587a4adba285
BEGIN:VALARM
ACTION:DISPLAY
DESCRIPTION:REMINDER
TRIGGER:-PT48H
END:VALARM
END:VEVENT
BEGIN:VEVENT
DTSTART:20250224T143000
DTEND:20250224T154500
LOCATION:Rockarena Meran
DTSTAMP:20260421T072612
SUMMARY:Basiskurs MO 7-9 / 14.30 - 15.45
DESCRIPTION:Link: https://alpenverein.it/kurs/id-7d2ae2f3-5c8b-4fd8-8783-d24d6ecb8d6c/
UID:7d2ae2f3-5c8b-4fd8-8783-d24d6ecb8d6c-5827258408d640e5920f69bc66aa2642
BEGIN:VALARM
ACTION:DISPLAY
DESCRIPTION:REMINDER
TRIGGER:-PT48H
END:VALARM
END:VEVENT
BEGIN:VEVENT
DTSTART:20250310T143000
DTEND:20250310T154500
LOCATION:Rockarena Meran
DTSTAMP:20260421T072612
SUMMARY:Basiskurs MO 7-9 / 14.30 - 15.45
DESCRIPTION:Link: https://alpenverein.it/kurs/id-7d2ae2f3-5c8b-4fd8-8783-d24d6ecb8d6c/
UID:7d2ae2f3-5c8b-4fd8-8783-d24d6ecb8d6c-56df76282b3bfb4b247f3706f9b1615c
BEGIN:VALARM
ACTION:DISPLAY
DESCRIPTION:REMINDER
TRIGGER:-PT48H
END:VALARM
END:VEVENT
BEGIN:VEVENT
DTSTART:20250317T143000
DTEND:20250317T154500
LOCATION:Rockarena Meran
DTSTAMP:20260421T072612
SUMMARY:Basiskurs MO 7-9 / 14.30 - 15.45
DESCRIPTION:Link: https://alpenverein.it/kurs/id-7d2ae2f3-5c8b-4fd8-8783-d24d6ecb8d6c/
UID:7d2ae2f3-5c8b-4fd8-8783-d24d6ecb8d6c-65b807457508a5fbc87a65bdd3e35448
BEGIN:VALARM
ACTION:DISPLAY
DESCRIPTION:REMINDER
TRIGGER:-PT48H
END:VALARM
END:VEVENT
BEGIN:VEVENT
DTSTART:20250324T143000
DTEND:20250324T154500
LOCATION:Rockarena Meran
DTSTAMP:20260421T072612
SUMMARY:Basiskurs MO 7-9 / 14.30 - 15.45
DESCRIPTION:Link: https://alpenverein.it/kurs/id-7d2ae2f3-5c8b-4fd8-8783-d24d6ecb8d6c/
UID:7d2ae2f3-5c8b-4fd8-8783-d24d6ecb8d6c-3565b22f126686ff8e76614ede7a3f71
BEGIN:VALARM
ACTION:DISPLAY
DESCRIPTION:REMINDER
TRIGGER:-PT48H
END:VALARM
END:VEVENT
BEGIN:VEVENT
DTSTART:20250331T143000
DTEND:20250331T154500
LOCATION:Rockarena Meran
DTSTAMP:20260421T072612
SUMMARY:Basiskurs MO 7-9 / 14.30 - 15.45
DESCRIPTION:Link: https://alpenverein.it/kurs/id-7d2ae2f3-5c8b-4fd8-8783-d24d6ecb8d6c/
UID:7d2ae2f3-5c8b-4fd8-8783-d24d6ecb8d6c-691b3781812fa14ca0320da58e2d5cf2
BEGIN:VALARM
ACTION:DISPLAY
DESCRIPTION:REMINDER
TRIGGER:-PT48H
END:VALARM
END:VEVENT
BEGIN:VEVENT
DTSTART:20250407T143000
DTEND:20250407T154500
LOCATION:Rockarena Meran
DTSTAMP:20260421T072612
SUMMARY:Basiskurs MO 7-9 / 14.30 - 15.45
DESCRIPTION:Link: https://alpenverein.it/kurs/id-7d2ae2f3-5c8b-4fd8-8783-d24d6ecb8d6c/
UID:7d2ae2f3-5c8b-4fd8-8783-d24d6ecb8d6c-ade398bf528364eee53ebbf409c992b8
BEGIN:VALARM
ACTION:DISPLAY
DESCRIPTION:REMINDER
TRIGGER:-PT48H
END:VALARM
END:VEVENT
BEGIN:VEVENT
DTSTART:20250414T143000
DTEND:20250414T154500
LOCATION:Rockarena Meran
DTSTAMP:20260421T072612
SUMMARY:Basiskurs MO 7-9 / 14.30 - 15.45
DESCRIPTION:Link: https://alpenverein.it/kurs/id-7d2ae2f3-5c8b-4fd8-8783-d24d6ecb8d6c/
UID:7d2ae2f3-5c8b-4fd8-8783-d24d6ecb8d6c-635adef9674988b45aeccb6b16394026
BEGIN:VALARM
ACTION:DISPLAY
DESCRIPTION:REMINDER
TRIGGER:-PT48H
END:VALARM
END:VEVENT
BEGIN:VEVENT
DTSTART:20250428T143000
DTEND:20250428T154500
LOCATION:Rockarena Meran
DTSTAMP:20260421T072612
SUMMARY:Basiskurs MO 7-9 / 14.30 - 15.45
DESCRIPTION:Link: https://alpenverein.it/kurs/id-7d2ae2f3-5c8b-4fd8-8783-d24d6ecb8d6c/
UID:7d2ae2f3-5c8b-4fd8-8783-d24d6ecb8d6c-3b5cf3a7a99217ffc85606ae9ddc5ffe
BEGIN:VALARM
ACTION:DISPLAY
DESCRIPTION:REMINDER
TRIGGER:-PT48H
END:VALARM
END:VEVENT
BEGIN:VEVENT
DTSTART:20250505T143000
DTEND:20250505T154500
LOCATION:Rockarena Meran
DTSTAMP:20260421T072612
SUMMARY:Basiskurs MO 7-9 / 14.30 - 15.45
DESCRIPTION:Link: https://alpenverein.it/kurs/id-7d2ae2f3-5c8b-4fd8-8783-d24d6ecb8d6c/
UID:7d2ae2f3-5c8b-4fd8-8783-d24d6ecb8d6c-a24555a7e6bff6d7c0546efb561b64c2
BEGIN:VALARM
ACTION:DISPLAY
DESCRIPTION:REMINDER
TRIGGER:-PT48H
END:VALARM
END:VEVENT
BEGIN:VEVENT
DTSTART:20250512T143000
DTEND:20250512T154500
LOCATION:Rockarena Meran
DTSTAMP:20260421T072612
SUMMARY:Basiskurs MO 7-9 / 14.30 - 15.45
DESCRIPTION:Link: https://alpenverein.it/kurs/id-7d2ae2f3-5c8b-4fd8-8783-d24d6ecb8d6c/
UID:7d2ae2f3-5c8b-4fd8-8783-d24d6ecb8d6c-76125d28098d93ff6ece193ac447c7e4
BEGIN:VALARM
ACTION:DISPLAY
DESCRIPTION:REMINDER
TRIGGER:-PT48H
END:VALARM
END:VEVENT
END:VCALENDAR