BEGIN:VCALENDAR
VERSION:2.0
PRODID:AVS
CALSCALE:GREGORIAN
REFRESH-INTERVAL;VALUE=DURATION:PT1H
BEGIN:VEVENT
DTSTART:20240404T160000
DTEND:20240404T180000
LOCATION:Boulderraum Niederdorf
DTSTAMP:20260420T140558
SUMMARY:Kinderklettern
DESCRIPTION:Link: https://alpenverein.it/kurs/id-65474d1a-219f-40bc-a0d7-bb4f286b1522/
UID:65474d1a-219f-40bc-a0d7-bb4f286b1522-56ec8961fe2e939ac195faec02acd0f5
BEGIN:VALARM
ACTION:DISPLAY
DESCRIPTION:REMINDER
TRIGGER:-PT48H
END:VALARM
END:VEVENT
BEGIN:VEVENT
DTSTART:20240411T160000
DTEND:20240411T180000
LOCATION:Boulderraum Niederdorf
DTSTAMP:20260420T140558
SUMMARY:Kinderklettern
DESCRIPTION:Link: https://alpenverein.it/kurs/id-65474d1a-219f-40bc-a0d7-bb4f286b1522/
UID:65474d1a-219f-40bc-a0d7-bb4f286b1522-f62da8f1167b4a5dcaa7a8ceede67f46
BEGIN:VALARM
ACTION:DISPLAY
DESCRIPTION:REMINDER
TRIGGER:-PT48H
END:VALARM
END:VEVENT
BEGIN:VEVENT
DTSTART:20240418T160000
DTEND:20240418T180000
LOCATION:Boulderraum Niederdorf
DTSTAMP:20260420T140558
SUMMARY:Kinderklettern
DESCRIPTION:Link: https://alpenverein.it/kurs/id-65474d1a-219f-40bc-a0d7-bb4f286b1522/
UID:65474d1a-219f-40bc-a0d7-bb4f286b1522-66eb03d2ade720b21fe48c89af619d10
BEGIN:VALARM
ACTION:DISPLAY
DESCRIPTION:REMINDER
TRIGGER:-PT48H
END:VALARM
END:VEVENT
BEGIN:VEVENT
DTSTART:20240425T160000
DTEND:20240425T180000
LOCATION:Boulderraum Niederdorf
DTSTAMP:20260420T140558
SUMMARY:Kinderklettern
DESCRIPTION:Link: https://alpenverein.it/kurs/id-65474d1a-219f-40bc-a0d7-bb4f286b1522/
UID:65474d1a-219f-40bc-a0d7-bb4f286b1522-9704f028f70779a2d173faa8ce1089d7
BEGIN:VALARM
ACTION:DISPLAY
DESCRIPTION:REMINDER
TRIGGER:-PT48H
END:VALARM
END:VEVENT
BEGIN:VEVENT
DTSTART:20240502T160000
DTEND:20240502T180000
LOCATION:Boulderraum Niederdorf
DTSTAMP:20260420T140558
SUMMARY:Kinderklettern
DESCRIPTION:Link: https://alpenverein.it/kurs/id-65474d1a-219f-40bc-a0d7-bb4f286b1522/
UID:65474d1a-219f-40bc-a0d7-bb4f286b1522-6e6f2061582c11ee5c39ea5f3dbdcf03
BEGIN:VALARM
ACTION:DISPLAY
DESCRIPTION:REMINDER
TRIGGER:-PT48H
END:VALARM
END:VEVENT
BEGIN:VEVENT
DTSTART:20240509T160000
DTEND:20240509T180000
LOCATION:Boulderraum Niederdorf
DTSTAMP:20260420T140558
SUMMARY:Kinderklettern
DESCRIPTION:Link: https://alpenverein.it/kurs/id-65474d1a-219f-40bc-a0d7-bb4f286b1522/
UID:65474d1a-219f-40bc-a0d7-bb4f286b1522-83970d6171263794501f6563000a0a03
BEGIN:VALARM
ACTION:DISPLAY
DESCRIPTION:REMINDER
TRIGGER:-PT48H
END:VALARM
END:VEVENT
BEGIN:VEVENT
DTSTART:20240516T160000
DTEND:20240516T180000
LOCATION:Boulderraum Niederdorf
DTSTAMP:20260420T140558
SUMMARY:Kinderklettern
DESCRIPTION:Link: https://alpenverein.it/kurs/id-65474d1a-219f-40bc-a0d7-bb4f286b1522/
UID:65474d1a-219f-40bc-a0d7-bb4f286b1522-5a54453167eb72c68d6c036770068df1
BEGIN:VALARM
ACTION:DISPLAY
DESCRIPTION:REMINDER
TRIGGER:-PT48H
END:VALARM
END:VEVENT
BEGIN:VEVENT
DTSTART:20240523T160000
DTEND:20240523T180000
LOCATION:Boulderraum Niederdorf
DTSTAMP:20260420T140558
SUMMARY:Kinderklettern
DESCRIPTION:Link: https://alpenverein.it/kurs/id-65474d1a-219f-40bc-a0d7-bb4f286b1522/
UID:65474d1a-219f-40bc-a0d7-bb4f286b1522-bc544ad899bc443059b9a10ee5dfcc7f
BEGIN:VALARM
ACTION:DISPLAY
DESCRIPTION:REMINDER
TRIGGER:-PT48H
END:VALARM
END:VEVENT
BEGIN:VEVENT
DTSTART:20240530T160000
DTEND:20240530T180000
LOCATION:Boulderraum Niederdorf
DTSTAMP:20260420T140558
SUMMARY:Kinderklettern
DESCRIPTION:Link: https://alpenverein.it/kurs/id-65474d1a-219f-40bc-a0d7-bb4f286b1522/
UID:65474d1a-219f-40bc-a0d7-bb4f286b1522-5f3d89962b81fff87419bbbc2db57c11
BEGIN:VALARM
ACTION:DISPLAY
DESCRIPTION:REMINDER
TRIGGER:-PT48H
END:VALARM
END:VEVENT
BEGIN:VEVENT
DTSTART:20240606T160000
DTEND:20240606T180000
LOCATION:Boulderraum Niederdorf
DTSTAMP:20260420T140558
SUMMARY:Kinderklettern
DESCRIPTION:Link: https://alpenverein.it/kurs/id-65474d1a-219f-40bc-a0d7-bb4f286b1522/
UID:65474d1a-219f-40bc-a0d7-bb4f286b1522-b07eff4e23970f6cf5314de1d231fc9f
BEGIN:VALARM
ACTION:DISPLAY
DESCRIPTION:REMINDER
TRIGGER:-PT48H
END:VALARM
END:VEVENT
END:VCALENDAR