BEGIN:VCALENDAR
VERSION:2.0
PRODID:AVS
CALSCALE:GREGORIAN
REFRESH-INTERVAL;VALUE=DURATION:PT1H
BEGIN:VEVENT
DTSTART:20240930T160000
DTEND:20250605T160000
LOCATION:Klettertreff Ibrsche
DTSTAMP:20260422T165806
SUMMARY:Kletterkurs U11 - Jahrgang 2015, 2016 und 2017
DESCRIPTION:Link: https://alpenverein.it/kurs/id-60abbdf6-860f-40b3-98c8-1a6bc51f1892/
UID:60abbdf6-860f-40b3-98c8-1a6bc51f1892
BEGIN:VALARM
ACTION:DISPLAY
DESCRIPTION:REMINDER
TRIGGER:-PT48H
END:VALARM
END:VEVENT
END:VCALENDAR