BEGIN:VCALENDAR
VERSION:2.0
PRODID:AVS
CALSCALE:GREGORIAN
REFRESH-INTERVAL;VALUE=DURATION:PT1H
BEGIN:VEVENT
DTSTART:20230925T150000
DTEND:20231204T163000
LOCATION:Kletterhalle Jenesien
DTSTAMP:20260421T094612
SUMMARY:Kinderkletterkurs (7-10 Jahre)
DESCRIPTION:Link: https://alpenverein.it/kurs/id-373ffbb1-21a6-462e-b592-3633d36f0c65/
UID:373ffbb1-21a6-462e-b592-3633d36f0c65
BEGIN:VALARM
ACTION:DISPLAY
DESCRIPTION:REMINDER
TRIGGER:-PT48H
END:VALARM
END:VEVENT
END:VCALENDAR