BEGIN:VCALENDAR
VERSION:2.0
PRODID:AVS
CALSCALE:GREGORIAN
REFRESH-INTERVAL;VALUE=DURATION:PT1H
BEGIN:VEVENT
DTSTART:20230512T143000
DTEND:20230512T160000
LOCATION:Kletterhalle St. Pankraz - Sticklä
DTSTAMP:20260423T201637
SUMMARY:Kletterkurs für Familien
DESCRIPTION:Link: https://alpenverein.it/kurs/id-14f61adf-e131-400d-b602-78a5f1b47490/
UID:14f61adf-e131-400d-b602-78a5f1b47490-66e19a97e41e2edda56e30f120a260a1
BEGIN:VALARM
ACTION:DISPLAY
DESCRIPTION:REMINDER
TRIGGER:-PT48H
END:VALARM
END:VEVENT
BEGIN:VEVENT
DTSTART:20230519T143000
DTEND:20230519T160000
LOCATION:Kletterhalle St. Pankraz - Sticklä
DTSTAMP:20260423T201637
SUMMARY:Kletterkurs für Familien
DESCRIPTION:Link: https://alpenverein.it/kurs/id-14f61adf-e131-400d-b602-78a5f1b47490/
UID:14f61adf-e131-400d-b602-78a5f1b47490-9888b991ff8ddccb528ab8e51d51d079
BEGIN:VALARM
ACTION:DISPLAY
DESCRIPTION:REMINDER
TRIGGER:-PT48H
END:VALARM
END:VEVENT
BEGIN:VEVENT
DTSTART:20230526T143000
DTEND:20230526T160000
LOCATION:Kletterhalle St. Pankraz - Sticklä
DTSTAMP:20260423T201637
SUMMARY:Kletterkurs für Familien
DESCRIPTION:Link: https://alpenverein.it/kurs/id-14f61adf-e131-400d-b602-78a5f1b47490/
UID:14f61adf-e131-400d-b602-78a5f1b47490-b42d32daa306c2d404f358d89ef44e97
BEGIN:VALARM
ACTION:DISPLAY
DESCRIPTION:REMINDER
TRIGGER:-PT48H
END:VALARM
END:VEVENT
BEGIN:VEVENT
DTSTART:20230609T143000
DTEND:20230609T160000
LOCATION:Kletterhalle St. Pankraz - Sticklä
DTSTAMP:20260423T201637
SUMMARY:Kletterkurs für Familien
DESCRIPTION:Link: https://alpenverein.it/kurs/id-14f61adf-e131-400d-b602-78a5f1b47490/
UID:14f61adf-e131-400d-b602-78a5f1b47490-ebd13a10d60928417d95935254836187
BEGIN:VALARM
ACTION:DISPLAY
DESCRIPTION:REMINDER
TRIGGER:-PT48H
END:VALARM
END:VEVENT
BEGIN:VEVENT
DTSTART:20230616T143000
DTEND:20230616T160000
LOCATION:Kletterhalle St. Pankraz - Sticklä
DTSTAMP:20260423T201637
SUMMARY:Kletterkurs für Familien
DESCRIPTION:Link: https://alpenverein.it/kurs/id-14f61adf-e131-400d-b602-78a5f1b47490/
UID:14f61adf-e131-400d-b602-78a5f1b47490-648d892ad8f19369b22ac06469e8a6fa
BEGIN:VALARM
ACTION:DISPLAY
DESCRIPTION:REMINDER
TRIGGER:-PT48H
END:VALARM
END:VEVENT
END:VCALENDAR